BEGIN:VCALENDAR
VERSION:2.0
PRODID:-//hacksw/handcal//NONSGML v1.0//EN
CALSCALE:GREGORIAN
BEGIN:VEVENT
DTEND:20190413T230000Z
UID:69ed76dca720b
DTSTAMP:20260426T032220Z
LOCATION:1020 Wien
DESCRIPTION:
URL;VALUE=URI:
SUMMARY:Int. Frühlingsmarathon des LCC-Wien in memoriam Adi Gruber
DTSTART:20190413T230000Z
END:VEVENT
END:VCALENDAR
An internal server error occurred.