BEGIN:VCALENDAR
VERSION:2.0
PRODID:-//hacksw/handcal//NONSGML v1.0//EN
CALSCALE:GREGORIAN
BEGIN:VEVENT
DTEND:20190501T230000Z
UID:69ebd3dad1c57
DTSTAMP:20260424T213434Z
LOCATION:25440 Porec
DESCRIPTION:
URL;VALUE=URI:
SUMMARY:5150 Triathlon in Porec
DTSTART:20190501T230000Z
END:VEVENT
END:VCALENDAR
An internal server error occurred.