BEGIN:VCALENDAR
VERSION:2.0
PRODID:-//hacksw/handcal//NONSGML v1.0//EN
CALSCALE:GREGORIAN
BEGIN:VEVENT
DTEND:20190123T193000Z
UID:69ebe86a84784
DTSTAMP:20260424T230218Z
LOCATION:1030 Wien
DESCRIPTION:
URL;VALUE=URI:
SUMMARY:Vortrag: Aqua Joggen- der gesunde Gesundheitssport
DTSTART:20190123T180000Z
END:VEVENT
END:VCALENDAR
An internal server error occurred.