BEGIN:VCALENDAR
VERSION:2.0
PRODID:-//hacksw/handcal//NONSGML v1.0//EN
CALSCALE:GREGORIAN
BEGIN:VEVENT
DTEND:20190524T230000Z
UID:69eb2aaeac1d3
DTSTAMP:20260424T093246Z
LOCATION:5623 Schwarzach/Pongau 
DESCRIPTION:Berglauf

URL;VALUE=URI:
SUMMARY:Schwarzacher Lauffest - Frühlingslauf – Ultratrail  
DTSTART:20190524T230000Z
END:VEVENT
END:VCALENDAR
An internal server error occurred.