BEGIN:VCALENDAR
VERSION:2.0
PRODID:-//hacksw/handcal//NONSGML v1.0//EN
CALSCALE:GREGORIAN
BEGIN:VEVENT
DTEND:20190430T230000Z
UID:69eafa7d27e47
DTSTAMP:20260424T060709Z
LOCATION:4924 Waldzell 
DESCRIPTION:
URL;VALUE=URI:
SUMMARY:Innviertler Frauenlauf u. Genuss Walk  
DTSTART:20190430T230000Z
END:VEVENT
END:VCALENDAR
An internal server error occurred.