BEGIN:VCALENDAR
VERSION:2.0
PRODID:-//hacksw/handcal//NONSGML v1.0//EN
CALSCALE:GREGORIAN
BEGIN:VEVENT
DTEND:20190607T230000Z
UID:69eca7bc3d30a
DTSTAMP:20260425T123836Z
LOCATION:4180 Zwettl a.d. Rodl
DESCRIPTION:
URL;VALUE=URI:
SUMMARY:Int. Zwettler Raml-Gastro 7-Brückenlauf
DTSTART:20190607T230000Z
END:VEVENT
END:VCALENDAR
An internal server error occurred.