BEGIN:VCALENDAR
VERSION:2.0
PRODID:-//hacksw/handcal//NONSGML v1.0//EN
CALSCALE:GREGORIAN
BEGIN:VEVENT
DTEND:20191012T230000Z
UID:69e73ac7699aa
DTSTAMP:20260421T095223Z
LOCATION:5600 Eindhoven

DESCRIPTION:
URL;VALUE=URI:
SUMMARY:De Lage Landen Marathon Eindhoven 
DTSTART:20191012T230000Z
END:VEVENT
END:VCALENDAR
An internal server error occurred.