BEGIN:VCALENDAR
VERSION:2.0
PRODID:-//hacksw/handcal//NONSGML v1.0//EN
CALSCALE:GREGORIAN
BEGIN:VEVENT
DTEND:20191012T230000Z
UID:69eab8c26dc7c
DTSTAMP:20260424T012642Z
LOCATION:77901 Victoria

DESCRIPTION:
URL;VALUE=URI:
SUMMARY:GoodLife Fitness Victoria Marathon   
DTSTART:20191012T230000Z
END:VEVENT
END:VCALENDAR
An internal server error occurred.