BEGIN:VCALENDAR
VERSION:2.0
PRODID:-//hacksw/handcal//NONSGML v1.0//EN
CALSCALE:GREGORIAN
BEGIN:VEVENT
DTEND:20190810T230000Z
UID:69e611ea8f967
DTSTAMP:20260420T124546Z
LOCATION:2250 T3M Calgary

DESCRIPTION:The home of one of the world&#39\;s most famous rodeos also plays host to a majestic Rocky Mountain race course.
 

URL;VALUE=URI:
SUMMARY:IRONMAN 70.3 Calgary   
DTSTART:20190810T230000Z
END:VEVENT
END:VCALENDAR
An internal server error occurred.