BEGIN:VCALENDAR
VERSION:2.0
PRODID:-//hacksw/handcal//NONSGML v1.0//EN
CALSCALE:GREGORIAN
BEGIN:VEVENT
DTEND:20190608T230000Z
UID:69ebc4d8d7add
DTSTAMP:20260424T203032Z
LOCATION:479-0881 Centrair Tokoname

DESCRIPTION:Set in Centrair airport\, this race mixes rural charm with a unique venue.

URL;VALUE=URI:
SUMMARY:Lixil IRONMAN 70.3 Centrair Chita Tokoname Japan  
DTSTART:20190608T230000Z
END:VEVENT
END:VCALENDAR
An internal server error occurred.