BEGIN:VCALENDAR
VERSION:2.0
PRODID:-//hacksw/handcal//NONSGML v1.0//EN
CALSCALE:GREGORIAN
BEGIN:VEVENT
DTEND:20191012T230000Z
UID:69e74195b0b45
DTSTAMP:20260421T102125Z
LOCATION:50667 Köln
DESCRIPTION:
URL;VALUE=URI:
SUMMARY:RheinEnergie Marathon Köln
DTSTART:20191012T230000Z
END:VEVENT
END:VCALENDAR
An internal server error occurred.