BEGIN:VCALENDAR
VERSION:2.0
PRODID:-//hacksw/handcal//NONSGML v1.0//EN
CALSCALE:GREGORIAN
BEGIN:VEVENT
DTEND:20190615T230000Z
UID:69e5cf78aad90
DTSTAMP:20260420T080216Z
LOCATION:54649 Waxweiler
DESCRIPTION:
URL;VALUE=URI:
SUMMARY:Eifel Marathon  
DTSTART:20190615T230000Z
END:VEVENT
END:VCALENDAR
An internal server error occurred.