BEGIN:VCALENDAR
VERSION:2.0
PRODID:-//hacksw/handcal//NONSGML v1.0//EN
CALSCALE:GREGORIAN
BEGIN:VEVENT
DTEND:20190601T230000Z
UID:69e59f9f57ef6
DTSTAMP:20260420T043807Z
LOCATION:02826 Görlitz
DESCRIPTION:
URL;VALUE=URI:
SUMMARY:Europa-Marathon Görlitz
DTSTART:20190601T230000Z
END:VEVENT
END:VCALENDAR
An internal server error occurred.