BEGIN:VCALENDAR
VERSION:2.0
PRODID:-//hacksw/handcal//NONSGML v1.0//EN
CALSCALE:GREGORIAN
BEGIN:VEVENT
DTEND:20190428T230000Z
UID:69ec9bc435a02
DTSTAMP:20260425T114732Z
LOCATION:3100 St. Pölten
DESCRIPTION:
URL;VALUE=URI:
SUMMARY:Round Table Benefizlauf
DTSTART:20190428T230000Z
END:VEVENT
END:VCALENDAR
An internal server error occurred.