BEGIN:VCALENDAR
VERSION:2.0
PRODID:-//hacksw/handcal//NONSGML v1.0//EN
CALSCALE:GREGORIAN
BEGIN:VEVENT
DTEND:20190613T230000Z
UID:69ed45861a18b
DTSTAMP:20260425T235150Z
LOCATION:8720 Knittelfeld
DESCRIPTION:
URL;VALUE=URI:
SUMMARY:Sommernachtslauf St. Margarethen
DTSTART:20190613T230000Z
END:VEVENT
END:VCALENDAR
An internal server error occurred.