BEGIN:VCALENDAR
VERSION:2.0
PRODID:-//hacksw/handcal//NONSGML v1.0//EN
CALSCALE:GREGORIAN
BEGIN:VEVENT
DTEND:20180928T230000Z
UID:69e716a9bd10b
DTSTAMP:20260421T071817Z
LOCATION:3652 Leiben\, Melk 
DESCRIPTION:
URL;VALUE=URI:
SUMMARY:WoidWetza Dirtrun
DTSTART:20180928T230000Z
END:VEVENT
END:VCALENDAR
An internal server error occurred.