BEGIN:VCALENDAR
VERSION:2.0
PRODID:-//hacksw/handcal//NONSGML v1.0//EN
CALSCALE:GREGORIAN
BEGIN:VEVENT
DTEND:20181013T230000Z
UID:69e720fb4e147
DTSTAMP:20260421T080219Z
LOCATION:71711 Steinheim/Murr
DESCRIPTION:
URL;VALUE=URI:
SUMMARY:Bottwartal-Marathon 
DTSTART:20181013T230000Z
END:VEVENT
END:VCALENDAR
An internal server error occurred.