BEGIN:VCALENDAR
VERSION:2.0
PRODID:-//hacksw/handcal//NONSGML v1.0//EN
CALSCALE:GREGORIAN
BEGIN:VEVENT
DTEND:20180922T230000Z
UID:69e6f930d2be2
DTSTAMP:20260421T051232Z
LOCATION:89073 Ulm
DESCRIPTION:
URL;VALUE=URI:
SUMMARY:Einstein-Marathon 
DTSTART:20180922T230000Z
END:VEVENT
END:VCALENDAR
An internal server error occurred.