BEGIN:VCALENDAR
VERSION:2.0
PRODID:-//hacksw/handcal//NONSGML v1.0//EN
CALSCALE:GREGORIAN
BEGIN:VEVENT
DTEND:20070907T230000Z
UID:69eca19cd04be
DTSTAMP:20260425T121228Z
LOCATION:17033 Neubrandenburg
DESCRIPTION:
URL;VALUE=URI:
SUMMARY:Staffelmarathon Neubrandenburg 
DTSTART:20070907T230000Z
END:VEVENT
END:VCALENDAR
An internal server error occurred.