BEGIN:VCALENDAR
VERSION:2.0
PRODID:-//hacksw/handcal//NONSGML v1.0//EN
CALSCALE:GREGORIAN
BEGIN:VEVENT
DTEND:20180921T230000Z
UID:69ece2c74d6ae
DTSTAMP:20260425T165031Z
LOCATION:4020 Linz/Pleschinger See
DESCRIPTION:
URL;VALUE=URI:
SUMMARY:Kinderlauf TriRun-Linz in Kooperation mit OÖ. Familienbund
DTSTART:20180921T230000Z
END:VEVENT
END:VCALENDAR
An internal server error occurred.