BEGIN:VCALENDAR
VERSION:2.0
PRODID:-//hacksw/handcal//NONSGML v1.0//EN
CALSCALE:GREGORIAN
BEGIN:VEVENT
DTEND:20180423T180000Z
UID:69ed9394886bb
DTSTAMP:20260426T052452Z
LOCATION:1020 Wien
DESCRIPTION:Dauer: ca. 90 min\, weiters siehe Beschreibung

URL;VALUE=URI:
SUMMARY:Vortrag: Aqua Joggen- der gesunde Gesundheitssport von Peter Wundsam
DTSTART:20180423T163000Z
END:VEVENT
END:VCALENDAR
An internal server error occurred.