BEGIN:VCALENDAR
VERSION:2.0
PRODID:-//hacksw/handcal//NONSGML v1.0//EN
CALSCALE:GREGORIAN
BEGIN:VEVENT
DTEND:20180320T184500Z
UID:69eadb5aa7aac
DTSTAMP:20260424T035418Z
LOCATION:A- 1020 Wien
DESCRIPTION:
URL;VALUE=URI:
SUMMARY:Aqua Jogging Seminar - von Peter Wundsam
DTSTART:20180320T171500Z
END:VEVENT
END:VCALENDAR
An internal server error occurred.