BEGIN:VCALENDAR
VERSION:2.0
PRODID:-//hacksw/handcal//NONSGML v1.0//EN
CALSCALE:GREGORIAN
BEGIN:VEVENT
DTEND:20181013T230000Z
UID:69e716a90aa12
DTSTAMP:20260421T071817Z
LOCATION:1111 Bukarest
DESCRIPTION:
URL;VALUE=URI:
SUMMARY:Bukarest Marathon
DTSTART:20181013T230000Z
END:VEVENT
END:VCALENDAR
An internal server error occurred.