BEGIN:VCALENDAR
VERSION:2.0
PRODID:-//hacksw/handcal//NONSGML v1.0//EN
CALSCALE:GREGORIAN
BEGIN:VEVENT
DTEND:20180929T230000Z
UID:69e6d9a507767
DTSTAMP:20260421T025757Z
LOCATION:1000 Warschau
DESCRIPTION:
URL;VALUE=URI:
SUMMARY:Warschau Marathon 
DTSTART:20180929T230000Z
END:VEVENT
END:VCALENDAR
An internal server error occurred.