BEGIN:VCALENDAR
VERSION:2.0
PRODID:-//hacksw/handcal//NONSGML v1.0//EN
CALSCALE:GREGORIAN
BEGIN:VEVENT
DTEND:20180817T230000Z
UID:69ebf5ee61c98
DTSTAMP:20260424T235958Z
LOCATION:1000 Turku
DESCRIPTION:INTERNATIONALER EVENT

URL;VALUE=URI:
SUMMARY:Paavo Nurmi Marathon in Finnland 
DTSTART:20180817T230000Z
END:VEVENT
END:VCALENDAR
An internal server error occurred.