BEGIN:VCALENDAR
VERSION:2.0
PRODID:-//hacksw/handcal//NONSGML v1.0//EN
CALSCALE:GREGORIAN
BEGIN:VEVENT
DTEND:20180721T230000Z
UID:69ec157bc0dfb
DTSTAMP:20260425T021435Z
LOCATION:1000 St. Petersburg
DESCRIPTION:
URL;VALUE=URI:
SUMMARY:White Nights Marathon St. Petersburg Russland 
DTSTART:20180721T230000Z
END:VEVENT
END:VCALENDAR
An internal server error occurred.