BEGIN:VCALENDAR
VERSION:2.0
PRODID:-//hacksw/handcal//NONSGML v1.0//EN
CALSCALE:GREGORIAN
BEGIN:VEVENT
DTEND:20180904T230000Z
UID:69e7d9936b3a6
DTSTAMP:20260421T210955Z
LOCATION:80-6902 Pembrokeshire

DESCRIPTION:
URL;VALUE=URI:
SUMMARY:IRONMAN Wales  
DTSTART:20180904T230000Z
END:VEVENT
END:VCALENDAR
An internal server error occurred.