BEGIN:VCALENDAR
VERSION:2.0
PRODID:-//hacksw/handcal//NONSGML v1.0//EN
CALSCALE:GREGORIAN
BEGIN:VEVENT
DTEND:20180407T230000Z
UID:69e6306178024
DTSTAMP:20260420T145545Z
LOCATION:Manchester

DESCRIPTION:
URL;VALUE=URI:
SUMMARY:ASICS Greather Manchester Marathon  
DTSTART:20180407T230000Z
END:VEVENT
END:VCALENDAR
An internal server error occurred.