BEGIN:VCALENDAR
VERSION:2.0
PRODID:-//hacksw/handcal//NONSGML v1.0//EN
CALSCALE:GREGORIAN
BEGIN:VEVENT
DTEND:20180713T230000Z
UID:69e679d526519
DTSTAMP:20260420T200909Z
LOCATION:47303 Muncie

DESCRIPTION:The welcoming heat of America&#39\;s rust belt offers a family-friendly environment for athletes and spectators.

URL;VALUE=URI:
SUMMARY:IRONMAN 70.3 Muncie  
DTSTART:20180713T230000Z
END:VEVENT
END:VCALENDAR
An internal server error occurred.