BEGIN:VCALENDAR
VERSION:2.0
PRODID:-//hacksw/handcal//NONSGML v1.0//EN
CALSCALE:GREGORIAN
BEGIN:VEVENT
DTEND:20180707T230000Z
UID:69ec964e1382d
DTSTAMP:20260425T112414Z
LOCATION:2544 Leobersdorf
DESCRIPTION:
URL;VALUE=URI:
SUMMARY:Womens Duathlon Leobersdorf 
DTSTART:20180707T230000Z
END:VEVENT
END:VCALENDAR
An internal server error occurred.