BEGIN:VCALENDAR
VERSION:2.0
PRODID:-//hacksw/handcal//NONSGML v1.0//EN
CALSCALE:GREGORIAN
BEGIN:VEVENT
DTEND:20180609T230000Z
UID:69ed392568db8
DTSTAMP:20260425T225901Z
LOCATION:9210 Pörtschach
DESCRIPTION:
URL;VALUE=URI:
SUMMARY:Pörtschacher Promenadenlauf und Nordic Walking 
DTSTART:20180609T230000Z
END:VEVENT
END:VCALENDAR
An internal server error occurred.