BEGIN:VCALENDAR
VERSION:2.0
PRODID:-//hacksw/handcal//NONSGML v1.0//EN
CALSCALE:GREGORIAN
BEGIN:VEVENT
DTEND:20180601T230000Z
UID:69eae0fd86031
DTSTAMP:20260424T041821Z
LOCATION:5623 Schwarzach/Pongau 
DESCRIPTION:Berglauf

URL;VALUE=URI:
SUMMARY:Schwarzacher Lauffest - Frühlingslauf – Ultratrail 
DTSTART:20180601T230000Z
END:VEVENT
END:VCALENDAR
An internal server error occurred.