BEGIN:VCALENDAR
VERSION:2.0
PRODID:-//hacksw/handcal//NONSGML v1.0//EN
CALSCALE:GREGORIAN
BEGIN:VEVENT
DTEND:20180525T230000Z
UID:69eae7a9e6ac5
DTSTAMP:20260424T044649Z
LOCATION:6441 Umhausen
DESCRIPTION:
URL;VALUE=URI:
SUMMARY:Stuiben Run 
DTSTART:20180525T230000Z
END:VEVENT
END:VCALENDAR
An internal server error occurred.