BEGIN:VCALENDAR
VERSION:2.0
PRODID:-//hacksw/handcal//NONSGML v1.0//EN
CALSCALE:GREGORIAN
BEGIN:VEVENT
DTEND:20180622T230000Z
UID:69ece2ca0d983
DTSTAMP:20260425T165034Z
LOCATION:3386 Hafnerbach
DESCRIPTION:
URL;VALUE=URI:
SUMMARY:Hafnerbacher Ruinenlauf - Pielachtal-Laufcup 
DTSTART:20180622T230000Z
END:VEVENT
END:VCALENDAR
An internal server error occurred.