BEGIN:VCALENDAR
VERSION:2.0
PRODID:-//hacksw/handcal//NONSGML v1.0//EN
CALSCALE:GREGORIAN
BEGIN:VEVENT
DTEND:20180601T230000Z
UID:69e859dc0efb6
DTSTAMP:20260422T061716Z
LOCATION:2232 Deutsch Wagram
DESCRIPTION:
URL;VALUE=URI:
SUMMARY:Deutsch Wagramer Lauftag 
DTSTART:20180601T230000Z
END:VEVENT
END:VCALENDAR
An internal server error occurred.