BEGIN:VCALENDAR
VERSION:2.0
PRODID:-//hacksw/handcal//NONSGML v1.0//EN
CALSCALE:GREGORIAN
BEGIN:VEVENT
DTEND:20180527T093000Z
UID:69ed0ba276f5b
DTSTAMP:20260425T194450Z
LOCATION:3100 St. Pölten
DESCRIPTION:Round Table ist ein Charity Verein mit dem Ziel der Unterstützung heimischer in Not geratener Familien. Der Lauf startet beim Landesmuseum\, verläuft entlang der Traisen und wieder zurück zum Landesmuseum.

URL;VALUE=URI:
SUMMARY:Round Table Benefizlauf - Laufend Gutes Tun / Red Elephant Kinderlauf  
DTSTART:20180527T093000Z
END:VEVENT
END:VCALENDAR
An internal server error occurred.