BEGIN:VCALENDAR
VERSION:2.0
PRODID:-//hacksw/handcal//NONSGML v1.0//EN
CALSCALE:GREGORIAN
BEGIN:VEVENT
DTEND:20180420T230000Z
UID:69e7f73121e32
DTSTAMP:20260421T231617Z
LOCATION:2822 Pitten
DESCRIPTION:
URL;VALUE=URI:
SUMMARY:Pittener Abendlauf 
DTSTART:20180420T230000Z
END:VEVENT
END:VCALENDAR
An internal server error occurred.