BEGIN:VCALENDAR
VERSION:2.0
PRODID:-//hacksw/handcal//NONSGML v1.0//EN
CALSCALE:GREGORIAN
BEGIN:VEVENT
DTEND:20180615T230000Z
UID:69ed458c099f3
DTSTAMP:20260425T235156Z
LOCATION:7111 Parndorf 
DESCRIPTION:
URL;VALUE=URI:
SUMMARY:Int. Parndorfer Straßenlauf und Nordic Walking Bewerb  
DTSTART:20180615T230000Z
END:VEVENT
END:VCALENDAR
An internal server error occurred.