BEGIN:VCALENDAR
VERSION:2.0
PRODID:-//hacksw/handcal//NONSGML v1.0//EN
CALSCALE:GREGORIAN
BEGIN:VEVENT
DTEND:20180105T230000Z
UID:69eb17aba9b32
DTSTAMP:20260424T081139Z
LOCATION:4572 Hinterstoder 
DESCRIPTION:
URL;VALUE=URI:
SUMMARY:Vertical Up - Hinterstoder
DTSTART:20180105T230000Z
END:VEVENT
END:VCALENDAR
An internal server error occurred.