BEGIN:VCALENDAR
VERSION:2.0
PRODID:-//hacksw/handcal//NONSGML v1.0//EN
CALSCALE:GREGORIAN
BEGIN:VEVENT
DTEND:20180609T230000Z
UID:69eca84be6b8c
DTSTAMP:20260425T124059Z
LOCATION:4000 Queensland

DESCRIPTION:Sunny seaside racing and a bike course through the vineyards in the foothills of the Abruzzo mountains.

URL;VALUE=URI:
SUMMARY:Flight Centre Active Travel IRONMAN 70.3 Cairns  
DTSTART:20180609T230000Z
END:VEVENT
END:VCALENDAR
An internal server error occurred.