BEGIN:VCALENDAR
VERSION:2.0
PRODID:-//hacksw/handcal//NONSGML v1.0//EN
CALSCALE:GREGORIAN
BEGIN:VEVENT
DTEND:20181027T230000Z
UID:69ece7ad64df7
DTSTAMP:20260425T171125Z
LOCATION:60314 Frankfurt am Main
DESCRIPTION:Deutsche Veranstaltung

URL;VALUE=URI:
SUMMARY:BMW Frankfurt Marathon 
DTSTART:20181027T230000Z
END:VEVENT
END:VCALENDAR
An internal server error occurred.