BEGIN:VCALENDAR
VERSION:2.0
PRODID:-//hacksw/handcal//NONSGML v1.0//EN
CALSCALE:GREGORIAN
BEGIN:VEVENT
DTEND:20180811T230000Z
UID:69ec9bc537ba2
DTSTAMP:20260425T114733Z
LOCATION:01814 Bad Schandau
DESCRIPTION:
URL;VALUE=URI:
SUMMARY:Elbe Schrammstein Lauf
DTSTART:20180809T230000Z
END:VEVENT
END:VCALENDAR
An internal server error occurred.