BEGIN:VCALENDAR
VERSION:2.0
PRODID:-//hacksw/handcal//NONSGML v1.0//EN
CALSCALE:GREGORIAN
BEGIN:VEVENT
DTEND:20180421T230000Z
UID:69ec23cab26cb
DTSTAMP:20260425T031538Z
LOCATION:63571 Gelnhausen
DESCRIPTION:
URL;VALUE=URI:
SUMMARY:Lauf für Integration u. Inklusion Gelnhausen 
DTSTART:20180421T230000Z
END:VEVENT
END:VCALENDAR
An internal server error occurred.