BEGIN:VCALENDAR
VERSION:2.0
PRODID:-//hacksw/handcal//NONSGML v1.0//EN
CALSCALE:GREGORIAN
BEGIN:VEVENT
DTEND:20171106T191500Z
UID:69ed86f2c7703
DTSTAMP:20260426T043058Z
LOCATION:1030 Wien
DESCRIPTION:Das Warum\, Wie\, Wann einer Lauf-\, Lauftechnik Verbesserung. Dauer: ca. 100 min oder etwas mehr...Alles verpackt in einen chilligen Abend! Anmeldung/ Platzreservierung verpflichtend\, Praktischer Kurs folgt im Anschluss\, kann mit dem Vortrag gebucht werden.

URL;VALUE=URI:
SUMMARY:Vortrag: Laufen- gesünder\, wirksamer\, schöner\, schneller von Peter Wundsam
DTSTART:20171106T173000Z
END:VEVENT
END:VCALENDAR
An internal server error occurred.