BEGIN:VCALENDAR
VERSION:2.0
PRODID:-//hacksw/handcal//NONSGML v1.0//EN
CALSCALE:GREGORIAN
BEGIN:VEVENT
DTEND:20171107T203000Z
UID:69ed939445900
DTSTAMP:20260426T052452Z
LOCATION:1020 Wien
DESCRIPTION:Vortra ca. 90 Minuten. Platzreservierung verpflichtend. Praktischer Kurs folgt im Anschluss\, kann mit dem Vortrag gebucht werden.

URL;VALUE=URI:
SUMMARY:Vortrag: Aqua Joggen- der gesunde Gesundheitssport von Peter Wundsam
DTSTART:20171107T203000Z
END:VEVENT
END:VCALENDAR
An internal server error occurred.