BEGIN:VCALENDAR
VERSION:2.0
PRODID:-//hacksw/handcal//NONSGML v1.0//EN
CALSCALE:GREGORIAN
BEGIN:VEVENT
DTEND:20180526T230000Z
UID:69e59b556ef39
DTSTAMP:20260420T041949Z
LOCATION:1000 Edinburgh
DESCRIPTION:INTERNATIONALER EVENT vom 26. bis 27. Mai 2018

URL;VALUE=URI:
SUMMARY:Edinburgh Marathon SCO 
DTSTART:20180526T230000Z
END:VEVENT
END:VCALENDAR
An internal server error occurred.