BEGIN:VCALENDAR
VERSION:2.0
PRODID:-//hacksw/handcal//NONSGML v1.0//EN
CALSCALE:GREGORIAN
BEGIN:VEVENT
DTEND:20170328T181500Z
UID:69eadb590ad83
DTSTAMP:20260424T035417Z
LOCATION:1020 Wien
DESCRIPTION:Für alle\, die etwas anderes probieren wollen\, verletzt sind - chronisch oder akut\, schwanger sind\, etwas zuviel Gewicht haben. Aqua Jogging richtig lernen\, damit mann seine zahlreichen Vorteile auch tatsächlich nutzen kann. Beginn am 28.03.17

URL;VALUE=URI:
SUMMARY:Aqua Jogging Seminar - von Peter Wundsam
DTSTART:20170328T181500Z
END:VEVENT
END:VCALENDAR
An internal server error occurred.