BEGIN:VCALENDAR
VERSION:2.0
PRODID:-//hacksw/handcal//NONSGML v1.0//EN
CALSCALE:GREGORIAN
BEGIN:VEVENT
DTEND:20170320T183000Z
UID:69eadb0c17ebc
DTSTAMP:20260424T035300Z
LOCATION:1020 Wien
DESCRIPTION:9 von 10 Läufern... oder sogar mehr... haben enormes Potential in der Technik. Das betrifft alle Leistungs- und Altersklassen.
Gesundheitlich wie leistungsmäßig kann Mann/Frau in diesem Bereich enorm viel machen. Beginn 20.3.17

URL;VALUE=URI:
SUMMARY:Lauftechnik Seminar: Richtig Laufen mit Peter Wundsam
DTSTART:20170320T183000Z
END:VEVENT
END:VCALENDAR
An internal server error occurred.