BEGIN:VCALENDAR
VERSION:2.0
PRODID:-//hacksw/handcal//NONSGML v1.0//EN
CALSCALE:GREGORIAN
BEGIN:VEVENT
DTEND:20170405T200000Z
UID:69eadb686564a
DTSTAMP:20260424T035432Z
LOCATION:1020 Wien
DESCRIPTION:9 von 10 Läufern... oder sogar mehr... haben enormes Potential in der Technik. Das betrifft alle Leistungs- und Altersklassen.
Gesundheitlich wie leistungsmäßig kann Mann/Frau in diesem Bereich enorm viel machen. Dabei verbessert sich die Leistung\, der Körper wird durch richtige und reduzierte Belastung geschohnt\, die Trainingseffekte verbessern sich... und laufen macht "richtig gemacht" viel mehr Spaß. Um das zu Erreichen arbeiten wir außer an der individuellen Technikverbesserung am ganzen Körper. Beweglichkeit\, Gleichgewicht\, Koordination\, Kräftigung werden ebenso geschult wie  Technikverständniss und - entwicklung. Trainer ist Lauftechnik Experte Peter Wundsam. Zielpublikum ist jeder der läuft\, vom Anfänger bis zum Profi (ja auch hier gibt es erstaunliches Potential)\, vom Fußballer bis zum Tennisspieler.

URL;VALUE=URI:
SUMMARY:Lauftechnik Seminar: Richtig Laufen mit Peter Wundsam
DTSTART:20170306T183000Z
END:VEVENT
END:VCALENDAR
An internal server error occurred.