BEGIN:VCALENDAR
VERSION:2.0
PRODID:-//hacksw/handcal//NONSGML v1.0//EN
CALSCALE:GREGORIAN
BEGIN:VEVENT
DTEND:20170201T180000Z
UID:69ed0ba2f2a6e
DTSTAMP:20260425T194450Z
LOCATION:1010 Wien
DESCRIPTION:Das Warum\, Wie\, Wann des stoßbelastungsfreien Trendsportes. Für alle\, die etwas Neues ausprobieren möchten oder müssen\, weil sie verletzt sind oder waren\, übergewichtig oder schwanger sind oder einfach nur präventiv. Platzreservierung verpflichtend. Praktischer Kurs folgt im Anschluss\, kann mit dem Vortrag gebucht werden.

Vortragsort ist DAS neue chillige Ramen Restaurant im Ersten Shoyu in der Seilerstätte

URL;VALUE=URI:
SUMMARY:Vortrag: Aqua Joggen- der gesunde Gesundheitssport von Peter Wundsam
DTSTART:20170201T163000Z
END:VEVENT
END:VCALENDAR
An internal server error occurred.